BEGIN:VCALENDAR
VERSION:2.0
PRODID:-//Blackburn College - ECPv6.15.20//NONSGML v1.0//EN
CALSCALE:GREGORIAN
METHOD:PUBLISH
X-ORIGINAL-URL:https://blackburn.edu
X-WR-CALDESC:Events for Blackburn College
REFRESH-INTERVAL;VALUE=DURATION:PT1H
X-Robots-Tag:noindex
X-PUBLISHED-TTL:PT1H
BEGIN:VTIMEZONE
TZID:America/Chicago
BEGIN:DAYLIGHT
TZOFFSETFROM:-0600
TZOFFSETTO:-0500
TZNAME:CDT
DTSTART:20230312T080000
END:DAYLIGHT
BEGIN:STANDARD
TZOFFSETFROM:-0500
TZOFFSETTO:-0600
TZNAME:CST
DTSTART:20231105T070000
END:STANDARD
BEGIN:DAYLIGHT
TZOFFSETFROM:-0600
TZOFFSETTO:-0500
TZNAME:CDT
DTSTART:20240310T080000
END:DAYLIGHT
BEGIN:STANDARD
TZOFFSETFROM:-0500
TZOFFSETTO:-0600
TZNAME:CST
DTSTART:20241103T070000
END:STANDARD
BEGIN:DAYLIGHT
TZOFFSETFROM:-0600
TZOFFSETTO:-0500
TZNAME:CDT
DTSTART:20250309T080000
END:DAYLIGHT
BEGIN:STANDARD
TZOFFSETFROM:-0500
TZOFFSETTO:-0600
TZNAME:CST
DTSTART:20251102T070000
END:STANDARD
END:VTIMEZONE
BEGIN:VTIMEZONE
TZID:America/Chicago
BEGIN:DAYLIGHT
TZOFFSETFROM:-0600
TZOFFSETTO:-0500
TZNAME:CDT
DTSTART:20230312T080000
END:DAYLIGHT
BEGIN:STANDARD
TZOFFSETFROM:-0500
TZOFFSETTO:-0600
TZNAME:CST
DTSTART:20231105T070000
END:STANDARD
BEGIN:DAYLIGHT
TZOFFSETFROM:-0600
TZOFFSETTO:-0500
TZNAME:CDT
DTSTART:20240310T080000
END:DAYLIGHT
BEGIN:STANDARD
TZOFFSETFROM:-0500
TZOFFSETTO:-0600
TZNAME:CST
DTSTART:20241103T070000
END:STANDARD
BEGIN:DAYLIGHT
TZOFFSETFROM:-0600
TZOFFSETTO:-0500
TZNAME:CDT
DTSTART:20250309T080000
END:DAYLIGHT
BEGIN:STANDARD
TZOFFSETFROM:-0500
TZOFFSETTO:-0600
TZNAME:CST
DTSTART:20251102T070000
END:STANDARD
END:VTIMEZONE
BEGIN:VEVENT
DTSTART;VALUE=DATE:20240503
DTEND;VALUE=DATE:20240508
DTSTAMP:20260419T101708
CREATED:20220420T212200Z
LAST-MODIFIED:20240502T143344Z
UID:1847-1714694400-1715126399@blackburn.edu
SUMMARY:Double Instruction Period
DESCRIPTION:Double Instruction Period (DIPs) Schedule Spring 2024 (pdf)\n \n  \n\n\nIf your class meets on . . .\nYour final class meeting is\nAt this time\n\n\nMonday @ 8:00 a.m.\nSaturday\, May 4\n10:00 a.m. – 11:50 a.m.\n\n\nMonday @ 9:00 a.m.\nFriday\, May 3\n3:00 p.m. – 4:50 p.m.\n\n\nMonday @ 10:00 a.m.\nFriday\, May 3\n8:00 a.m. – 9:50 a.m.\n\n\nMonday @ 11:00 a.m.\nTuesday\, May 7\n8:00 a.m. – 9:50 a.m.\n\n\nMonday @ 12:00 p.m.\nTuesday\, May 7\n10:00 a.m. – 11:50 a.m.\n\n\nMonday @ 1:00 p.m.\nMonday\, May 6\n1:00 p.m. – 2:50 p.m. \n\n\nMonday @ 2:00 p.m.\nFriday\, May 3\n1:00 p.m. – 2:50 p.m. \n\n\nMonday @ 3:00 p.m.\nMonday\, May 6\n10:00 a.m. – 11:50 a.m.\n\n\nTuesday @ 8:00 a.m.\nFriday\, May 3\n10:00 a.m. – 11:50 a.m.\n\n\nTuesday @ 9:30 a.m.\nMonday\, May 6\n8:00 a.m. – 9:50 a.m.\n\n\nTuesday @ 11:00 a.m.\nSaturday\, May 4\n3:00 p.m. – 4:50 p.m.\n\n\nTuesday @ 2:30 p.m.\nMonday\, May 6\n3:00 p.m. – 4:50 p.m.\n\n\nMonday Night Classes\nSaturday\, May 4\n8:00 a.m. – 9:50 a.m.\n\n\nThursday Night Classes\nMonday\, May 6\n7:00 p.m. – 8:50 p.m.\n\n\n \n \nAll double instruction periods are scheduled for the regular classroom. \nALL FINAL GRADES FOR GRADUATING SENIORS ARE DUE BY 9:00 A.M. ON WEDNESDAY\, MAY 8. \nALL REMAINING FINAL GRADES ARE DUE BY THURSDAY\, MAY 9 AT 12:00 P.M. \nAny changes to the schedule must be approved by the Provost.
URL:https://blackburn.edu/event/double-instruction-period/
CATEGORIES:Academic Calendar,Academics,Faculty & Staff,Students
END:VEVENT
BEGIN:VEVENT
DTSTART;TZID=America/Chicago:20240507T170000
DTEND;TZID=America/Chicago:20240507T183000
DTSTAMP:20260419T101708
CREATED:20240425T155722Z
LAST-MODIFIED:20240425T155722Z
UID:6804-1715101200-1715106600@blackburn.edu
SUMMARY:Education Majors Holding Action Research Presentations
DESCRIPTION:Graduating seniors who have completed their student teaching experience will be hosting a poster presentation event to demonstrate their action research projects. The event will be held in Woodson B on May 7 at 5 pm. The event is open to the public and all students\, faculty\, and staff are invited. The posters will be set up around the room and attendees can select which presentations they are most interested in and engage in a question and answer session with the student researcher. The event will be open till 6:30 pm.
URL:https://blackburn.edu/event/education-majors-holding-action-research-presentations/
LOCATION:Woodson B
CATEGORIES:Academics,Faculty & Staff,Students
END:VEVENT
END:VCALENDAR